BEGIN:VCALENDAR
VERSION:2.0
PRODID:-//Brockwell Park Community Greenhouses - ECPv6.15.20//NONSGML v1.0//EN
CALSCALE:GREGORIAN
METHOD:PUBLISH
X-WR-CALNAME:Brockwell Park Community Greenhouses
X-ORIGINAL-URL:https://www.brockwellgreenhouses.org.uk
X-WR-CALDESC:Events for Brockwell Park Community Greenhouses
REFRESH-INTERVAL;VALUE=DURATION:PT1H
X-Robots-Tag:noindex
X-PUBLISHED-TTL:PT1H
BEGIN:VTIMEZONE
TZID:Europe/London
BEGIN:DAYLIGHT
TZOFFSETFROM:+0000
TZOFFSETTO:+0100
TZNAME:BST
DTSTART:20230326T010000
END:DAYLIGHT
BEGIN:STANDARD
TZOFFSETFROM:+0100
TZOFFSETTO:+0000
TZNAME:GMT
DTSTART:20231029T010000
END:STANDARD
BEGIN:DAYLIGHT
TZOFFSETFROM:+0000
TZOFFSETTO:+0100
TZNAME:BST
DTSTART:20240331T010000
END:DAYLIGHT
BEGIN:STANDARD
TZOFFSETFROM:+0100
TZOFFSETTO:+0000
TZNAME:GMT
DTSTART:20241027T010000
END:STANDARD
BEGIN:DAYLIGHT
TZOFFSETFROM:+0000
TZOFFSETTO:+0100
TZNAME:BST
DTSTART:20250330T010000
END:DAYLIGHT
BEGIN:STANDARD
TZOFFSETFROM:+0100
TZOFFSETTO:+0000
TZNAME:GMT
DTSTART:20251026T010000
END:STANDARD
END:VTIMEZONE
BEGIN:VEVENT
DTSTART;TZID=Europe/London:20241214T110000
DTEND;TZID=Europe/London:20241214T140000
DTSTAMP:20260420T100049
CREATED:20241107T152116Z
LAST-MODIFIED:20241107T160751Z
UID:10000433-1734174000-1734184800@www.brockwellgreenhouses.org.uk
SUMMARY:Family Festive Event
DESCRIPTION:Visit the gardens this Christmas to get in the festive mood! \nOnce again our Festive Family Event will provide a chance to celebrate Christmas without all the hustle and bustle.  Enjoy a stroll around the garden\, take part in nature-based crafts and activities\, visit Santa in our orchard grotto and enjoy a little panto. \n\nFestive garden trail | free for all\nChristmas crafts for children | a free\, drop-in activity\nFood and drinks | served 11:30am-1:30pm\nSanta’s Orchard Grotto | booking required\, click here\nClari the Christmas Fairy panto | booking required\n\n11:00 show click here\n13:00 show click here\n\n\n\nNo ticket is required for entrance to the gardens\, for the trail and for the craft activities.  Just drop by and join in the fun! \nTICKET INFORMATION \nAdvanced tickets are required for the Panto and Grotto. \nPanto:\nChild ticket:£8\nAdult ticket: £10\nFamily ticket: £30\n(2 adults and 2 children) \nGrotto: £5 per child \nClick on the links in the event description to book your tickets. \nThis fundraising event will raise money for Brockwell Park Community Greenhouses to help maintain our garden and to deliver educational activities. Donations will be gratefully received on the day. \nGetting to us \nBPCG is in the middle of Brockwell Park\, between the tennis courts and the walled gardens.
URL:https://www.brockwellgreenhouses.org.uk/event/family-festive-event-4/
LOCATION:Brockwell Park Community Greenhouses
CATEGORIES:Add to home page,Concert,Event for All,Family event
ATTACH;FMTTYPE=image/jpeg:https://www.brockwellgreenhouses.org.uk/wp-content/uploads/2024/11/Family-Festive-Event-1.jpg
GEO:51.4543375;-0.108968
END:VEVENT
END:VCALENDAR